BEGIN:VCALENDAR
VERSION:2.0
PRODID:-//Dr. Alisa J. - ECPv6.15.20//NONSGML v1.0//EN
CALSCALE:GREGORIAN
METHOD:PUBLISH
X-WR-CALNAME:Dr. Alisa J.
X-ORIGINAL-URL:https://dralisaj.com
X-WR-CALDESC:Events for Dr. Alisa J.
REFRESH-INTERVAL;VALUE=DURATION:PT1H
X-Robots-Tag:noindex
X-PUBLISHED-TTL:PT1H
BEGIN:VTIMEZONE
TZID:America/Chicago
BEGIN:DAYLIGHT
TZOFFSETFROM:-0600
TZOFFSETTO:-0500
TZNAME:CDT
DTSTART:20250309T080000
END:DAYLIGHT
BEGIN:STANDARD
TZOFFSETFROM:-0500
TZOFFSETTO:-0600
TZNAME:CST
DTSTART:20251102T070000
END:STANDARD
BEGIN:DAYLIGHT
TZOFFSETFROM:-0600
TZOFFSETTO:-0500
TZNAME:CDT
DTSTART:20260308T080000
END:DAYLIGHT
BEGIN:STANDARD
TZOFFSETFROM:-0500
TZOFFSETTO:-0600
TZNAME:CST
DTSTART:20261101T070000
END:STANDARD
BEGIN:DAYLIGHT
TZOFFSETFROM:-0600
TZOFFSETTO:-0500
TZNAME:CDT
DTSTART:20270314T080000
END:DAYLIGHT
BEGIN:STANDARD
TZOFFSETFROM:-0500
TZOFFSETTO:-0600
TZNAME:CST
DTSTART:20271107T070000
END:STANDARD
END:VTIMEZONE
BEGIN:VEVENT
DTSTART;TZID=America/Chicago:20260603T133000
DTEND;TZID=America/Chicago:20260603T153000
DTSTAMP:20260423T132059
CREATED:20260128T154553Z
LAST-MODIFIED:20260128T154553Z
UID:10000057-1780493400-1780500600@dralisaj.com
SUMMARY:Building Blocks of Ministry Excellence (4 Part Virtual Series)
DESCRIPTION:Is your ministry thriving or just surviving? Many faith-based organizations are doing incredible kingdom work but lack the strategic infrastructure needed to sustain and scale their impact. Building Blocks of Ministry Excellence bridges the gap between business excellence and kingdom mission\, equipping your leadership team with the tools\, strategies\, and systems that successful organizations use to create lasting transformation. \nThis four-part virtual program addresses the critical structural areas every healthy ministry needs: developing leaders who multiply\, building authentic community connections\, securing diversified funding streams\, and creating adaptive systems that scale. Over four months\, your team will move beyond information gathering to actual implementation\, using proven frameworks designed specifically for faith-based contexts. \nBecause transformation isn’t a solo journey\, this program is designed for ministry teams to participate together—ensuring that what you learn becomes what you do. Each 90-minute session includes practical toolkits\, team breakout discussions\, and a 30-day implementation window to apply what you’ve learned immediately. \nInformation + Application = Transformation. \nThat’s not just our tagline—it’s our promise. If you’re ready to build a ministry that’s not only impactful today but sustainable for tomorrow\, this program will give you the building blocks you need.​​​​​​​​​​​​​​​​ \n\nBlock 1 – The Leadership Framework (Wednesday\, May 13\, 2026 – 1:30pm – 3:30pm)\nBlock 2 – The Community Connection (Wednesday\, May 20\, 2026 – 1:30pm – 3:30pm)\nBlock 3 – The Funding Framework (Wednesday\, May 27\, 2026 – 1:30pm – 3:30pm)\nBlock 4 – The Systems Architecture (Wednesday\, June 3\, 2026 – 1:30pm – 3:30pm)
URL:https://dralisaj.com/event/building-blocks-of-ministry-excellence-4-part-virtual-series/2026-06-03/
LOCATION:Virtual Event
END:VEVENT
BEGIN:VEVENT
DTSTART;TZID=America/Chicago:20260606T100000
DTEND;TZID=America/Chicago:20260606T120000
DTSTAMP:20260423T132059
CREATED:20260128T152919Z
LAST-MODIFIED:20260128T152919Z
UID:10000052-1780740000-1780747200@dralisaj.com
SUMMARY:The Prayer Lab
DESCRIPTION:The Prayer Lab is an interactive\, hands‑on space designed to help participants grow in confidence\, consistency\, and depth in their prayer life. Through guided practice\, biblical teaching\, and practical tools\, attendees will explore different forms of prayer\, learn how to hear God more clearly\, and develop rhythms that make prayer a natural part of everyday living. This lab is perfect for anyone wanting to strengthen their connection with God and cultivate a more intentional\, powerful prayer life.
URL:https://dralisaj.com/event/the-prayer-lab/
LOCATION:Concord Fortress of Hope\, Kansas City\, MO\, United States
END:VEVENT
BEGIN:VEVENT
DTSTART;TZID=America/Chicago:20260613T100000
DTEND;TZID=America/Chicago:20260613T113000
DTSTAMP:20260423T132059
CREATED:20260128T183144Z
LAST-MODIFIED:20260128T183144Z
UID:10000066-1781344800-1781350200@dralisaj.com
SUMMARY:Vision Accelerator Lab - The Velocity Framework
DESCRIPTION:
URL:https://dralisaj.com/event/vision-accelerator-lab-the-velocity-framework/
LOCATION:Virtual Event
END:VEVENT
END:VCALENDAR