BEGIN:VCALENDAR
VERSION:2.0
PRODID:-//Dr. Alisa J. - ECPv6.15.20//NONSGML v1.0//EN
CALSCALE:GREGORIAN
METHOD:PUBLISH
X-ORIGINAL-URL:https://dralisaj.com
X-WR-CALDESC:Events for Dr. Alisa J.
REFRESH-INTERVAL;VALUE=DURATION:PT1H
X-Robots-Tag:noindex
X-PUBLISHED-TTL:PT1H
BEGIN:VTIMEZONE
TZID:America/Chicago
BEGIN:DAYLIGHT
TZOFFSETFROM:-0600
TZOFFSETTO:-0500
TZNAME:CDT
DTSTART:20250309T080000
END:DAYLIGHT
BEGIN:STANDARD
TZOFFSETFROM:-0500
TZOFFSETTO:-0600
TZNAME:CST
DTSTART:20251102T070000
END:STANDARD
BEGIN:DAYLIGHT
TZOFFSETFROM:-0600
TZOFFSETTO:-0500
TZNAME:CDT
DTSTART:20260308T080000
END:DAYLIGHT
BEGIN:STANDARD
TZOFFSETFROM:-0500
TZOFFSETTO:-0600
TZNAME:CST
DTSTART:20261101T070000
END:STANDARD
BEGIN:DAYLIGHT
TZOFFSETFROM:-0600
TZOFFSETTO:-0500
TZNAME:CDT
DTSTART:20270314T080000
END:DAYLIGHT
BEGIN:STANDARD
TZOFFSETFROM:-0500
TZOFFSETTO:-0600
TZNAME:CST
DTSTART:20271107T070000
END:STANDARD
END:VTIMEZONE
BEGIN:VEVENT
DTSTART;TZID=America/Chicago:20260815T100000
DTEND;TZID=America/Chicago:20260815T120000
DTSTAMP:20260423T185735
CREATED:20260128T153331Z
LAST-MODIFIED:20260128T153331Z
UID:10000053-1786788000-1786795200@dralisaj.com
SUMMARY:The Proverbs 31 Woman (Myth or Model)
DESCRIPTION:This session explores one of the most talked‑about passages in Scripture—the Proverbs 31 woman—and asks an honest question: is she an impossible myth or a meaningful model? Participants will unpack the historical and cultural context behind the text\, uncover the real purpose of this poetic portrait\, and learn how its principles can inspire rather than overwhelm today’s women. Through discussion and practical application\, attendees will walk away with a refreshed\, grace‑filled perspective on biblical womanhood that emphasizes character\, purpose\, and God‑centered identity over perfection.
URL:https://dralisaj.com/event/the-proverbs-31-woman-myth-or-model/
LOCATION:Concord Fortress of Hope\, Kansas City\, MO\, United States
END:VEVENT
BEGIN:VEVENT
DTSTART;TZID=America/Chicago:20260829T090000
DTEND;TZID=America/Chicago:20260829T150000
DTSTAMP:20260423T185735
CREATED:20260128T155259Z
LAST-MODIFIED:20260128T155259Z
UID:10000058-1787994000-1788015600@dralisaj.com
SUMMARY:Growing Healthy Ministries Summit
DESCRIPTION:The Growing Healthy Ministries Summit equips faith-based leaders to cultivate thriving ministry communities through three essential practices: Building Community\, Connecting Community\, and Committing to Community. \nThis dynamic\, one-day event provides ministry teams with immediately applicable strategies and tools to:\n∙ Build Community – Create welcoming environments where people naturally belong and grow\n∙ Connect Community – Foster authentic relationships that transform isolated individuals into engaged participants\n∙ Commit to Community – Develop sustainable practices that keep people invested in your ministry’s mission \nThrough interactive sessions\, practical toolkits\, and collaborative learning\, participants discover how to move beyond information to transformation. Ministry teams leave with concrete action plans they can implement immediately to strengthen community bonds and expand kingdom impact. \nJoin leaders who understand that healthy ministries grow when community thrives from the inside out.
URL:https://dralisaj.com/event/growing-healthy-ministries-summit-2/
LOCATION:Kauffman Foundation Conference Center\, 4801 Rockhill Rd\, Kansas City\, 64111\, United States
END:VEVENT
BEGIN:VEVENT
DTSTART;VALUE=DATE:20261001
DTEND;VALUE=DATE:20261004
DTSTAMP:20260423T185735
CREATED:20260128T181514Z
LAST-MODIFIED:20260128T181514Z
UID:10000062-1790812800-1791071999@dralisaj.com
SUMMARY:The LEADERSHIP Cluster
DESCRIPTION:
URL:https://dralisaj.com/event/the-leadership-cluster/
LOCATION:Gaylord Rockies Resort & Convention Center\, Aurora\, CO
END:VEVENT
BEGIN:VEVENT
DTSTART;TZID=America/Chicago:20261029T110000
DTEND;TZID=America/Chicago:20261029T133000
DTSTAMP:20260423T185735
CREATED:20260128T175610Z
LAST-MODIFIED:20260128T175610Z
UID:10000059-1793271600-1793280600@dralisaj.com
SUMMARY:Legacy Leaders Symposium
DESCRIPTION:The Legacy Leaders Symposium equips faith-based leaders to steward their ministry’s future with the same intentionality they’ve invested in its present. This transformative event addresses the critical intersection of leadership transition and organizational sustainability—ensuring your ministry’s impact extends beyond your tenure.
URL:https://dralisaj.com/event/legacy-leaders-symposium/
LOCATION:Kauffman Foundation Conference Center\, 4801 Rockhill Rd\, Kansas City\, 64111\, United States
END:VEVENT
BEGIN:VEVENT
DTSTART;VALUE=DATE:20261106
DTEND;VALUE=DATE:20261110
DTSTAMP:20260423T185735
CREATED:20260128T181633Z
LAST-MODIFIED:20260128T181633Z
UID:10000063-1793923200-1794268799@dralisaj.com
SUMMARY:Real Life Ministries\, TN
DESCRIPTION:
URL:https://dralisaj.com/event/real-life-ministries-tn/
END:VEVENT
END:VCALENDAR