BEGIN:VCALENDAR
VERSION:2.0
PRODID:-//Dr. Alisa J. - ECPv6.15.20//NONSGML v1.0//EN
CALSCALE:GREGORIAN
METHOD:PUBLISH
X-ORIGINAL-URL:https://dralisaj.com
X-WR-CALDESC:Events for Dr. Alisa J.
REFRESH-INTERVAL;VALUE=DURATION:PT1H
X-Robots-Tag:noindex
X-PUBLISHED-TTL:PT1H
BEGIN:VTIMEZONE
TZID:America/Chicago
BEGIN:DAYLIGHT
TZOFFSETFROM:-0600
TZOFFSETTO:-0500
TZNAME:CDT
DTSTART:20250309T080000
END:DAYLIGHT
BEGIN:STANDARD
TZOFFSETFROM:-0500
TZOFFSETTO:-0600
TZNAME:CST
DTSTART:20251102T070000
END:STANDARD
BEGIN:DAYLIGHT
TZOFFSETFROM:-0600
TZOFFSETTO:-0500
TZNAME:CDT
DTSTART:20260308T080000
END:DAYLIGHT
BEGIN:STANDARD
TZOFFSETFROM:-0500
TZOFFSETTO:-0600
TZNAME:CST
DTSTART:20261101T070000
END:STANDARD
BEGIN:DAYLIGHT
TZOFFSETFROM:-0600
TZOFFSETTO:-0500
TZNAME:CDT
DTSTART:20270314T080000
END:DAYLIGHT
BEGIN:STANDARD
TZOFFSETFROM:-0500
TZOFFSETTO:-0600
TZNAME:CST
DTSTART:20271107T070000
END:STANDARD
END:VTIMEZONE
BEGIN:VEVENT
DTSTART;TZID=America/Chicago:20261029T110000
DTEND;TZID=America/Chicago:20261029T133000
DTSTAMP:20260423T183327
CREATED:20260128T175610Z
LAST-MODIFIED:20260128T175610Z
UID:10000059-1793271600-1793280600@dralisaj.com
SUMMARY:Legacy Leaders Symposium
DESCRIPTION:The Legacy Leaders Symposium equips faith-based leaders to steward their ministry’s future with the same intentionality they’ve invested in its present. This transformative event addresses the critical intersection of leadership transition and organizational sustainability—ensuring your ministry’s impact extends beyond your tenure.
URL:https://dralisaj.com/event/legacy-leaders-symposium/
LOCATION:Kauffman Foundation Conference Center\, 4801 Rockhill Rd\, Kansas City\, 64111\, United States
END:VEVENT
END:VCALENDAR